Workbook

Sheet Start here
A1: Making Tax Digital records
A2: Free from Self Assessment Helper - www.selfassessmenthelper.co.uk/mtd-quarterly-updates
A4: Tax year starts on | B4: 46118 | C4: Change to 06/04/2027 for 2027-28, and so on
A5: Tax year ends on | B5: =DATE(YEAR(B4)+1,4,5)
A6: Your name
A7: Business or property description
A9: How to use it
A10: 1. Put each amount on its own row in the Self-employment or Property sheet: the date it was received or paid, a description, the category (pick from the list) and the amount.
A11: 2. Income and costs are both entered as positive amounts. The category says which is which. Refunds can be entered as a minus amount.
A12: 3. The Quarterly totals sheet adds everything up for each of the 4 updates. Each update is a running total from 6 April.
A13: 4. Send each update with bridging software that reads the Quarterly totals cells. Don't type the totals into other software by hand: HMRC's digital links rule doesn't allow it.
A14: 5. Turnover under £90,000? You can use the "not split" expenses category instead of the detailed ones. Landlords must still keep mortgage interest on homes separate.
A15: 6. Jointly owned property: record your share only.
A16: 7. Keep your receipts and bank statements. Start a fresh copy of this file for each tax year.
A18: You can open this file in the helper at www.selfassessmenthelper.co.uk/mtd-quarterly-updates to check it before you send an update. It is read on your device and never uploaded.
A19: General guidance, not tax advice. Check the categories against HMRC guidance if you are unsure.

Sheet Quarterly totals
A1: Quarterly update totals (running totals from 6 April)
A2: Worked out from the Self-employment and Property sheets. Point your bridging software at these cells.
A4: Self-employment
B5: Update 1 | C5: Update 2 | D5: Update 3 | E5: Update 4
A6: Covers 6 April to | B6: =DATE(YEAR('Start here'!$B$4),7,5) | C6: =DATE(YEAR('Start here'!$B$4),10,5) | D6: =DATE(YEAR('Start here'!$B$4)+1,1,5) | E6: =DATE(YEAR('Start here'!$B$4)+1,4,5)
A7: Send by | B7: =DATE(YEAR('Start here'!$B$4),8,7) | C7: =DATE(YEAR('Start here'!$B$4),11,7) | D7: =DATE(YEAR('Start here'!$B$4)+1,2,7) | E7: =DATE(YEAR('Start here'!$B$4)+1,5,7)
A8: Turnover (sales, takings, fees) | B8: =SUMIFS('Self-employment'!$D:$D,'Self-employment'!$C:$C,"Turnover (sales, takings, fees)",'Self-employment'!$A:$A,">="&'Start here'!$B$4,'Self-employment'!$A:$A,"<="&B$6) | C8: =SUMIFS('Self-employment'!$D:$D,'Self-employment'!$C:$C,"Turnover (sales, takings, fees)",'Self-employment'!$A:$A,">="&'Start here'!$B$4,'Self-employment'!$A:$A,"<="&C$6) | D8: =SUMIFS('Self-employment'!$D:$D,'Self-employment'!$C:$C,"Turnover (sales, takings, fees)",'Self-employment'!$A:$A,">="&'Start here'!$B$4,'Self-employment'!$A:$A,"<="&D$6) | E8: =SUMIFS('Self-employment'!$D:$D,'Self-employment'!$C:$C,"Turnover (sales, takings, fees)",'Self-employment'!$A:$A,">="&'Start here'!$B$4,'Self-employment'!$A:$A,"<="&E$6)
A9: Other business income | B9: =SUMIFS('Self-employment'!$D:$D,'Self-employment'!$C:$C,"Other business income",'Self-employment'!$A:$A,">="&'Start here'!$B$4,'Self-employment'!$A:$A,"<="&B$6) | C9: =SUMIFS('Self-employment'!$D:$D,'Self-employment'!$C:$C,"Other business income",'Self-employment'!$A:$A,">="&'Start here'!$B$4,'Self-employment'!$A:$A,"<="&C$6) | D9: =SUMIFS('Self-employment'!$D:$D,'Self-employment'!$C:$C,"Other business income",'Self-employment'!$A:$A,">="&'Start here'!$B$4,'Self-employment'!$A:$A,"<="&D$6) | E9: =SUMIFS('Self-employment'!$D:$D,'Self-employment'!$C:$C,"Other business income",'Self-employment'!$A:$A,">="&'Start here'!$B$4,'Self-employment'!$A:$A,"<="&E$6)
A10: Cost of goods bought for resale or used | B10: =SUMIFS('Self-employment'!$D:$D,'Self-employment'!$C:$C,"Cost of goods bought for resale or used",'Self-employment'!$A:$A,">="&'Start here'!$B$4,'Self-employment'!$A:$A,"<="&B$6) | C10: =SUMIFS('Self-employment'!$D:$D,'Self-employment'!$C:$C,"Cost of goods bought for resale or used",'Self-employment'!$A:$A,">="&'Start here'!$B$4,'Self-employment'!$A:$A,"<="&C$6) | D10: =SUMIFS('Self-employment'!$D:$D,'Self-employment'!$C:$C,"Cost of goods bought for resale or used",'Self-employment'!$A:$A,">="&'Start here'!$B$4,'Self-employment'!$A:$A,"<="&D$6) | E10: =SUMIFS('Self-employment'!$D:$D,'Self-employment'!$C:$C,"Cost of goods bought for resale or used",'Self-employment'!$A:$A,">="&'Start here'!$B$4,'Self-employment'!$A:$A,"<="&E$6)
A11: Construction industry payments to subcontractors | B11: =SUMIFS('Self-employment'!$D:$D,'Self-employment'!$C:$C,"Construction industry payments to subcontractors",'Self-employment'!$A:$A,">="&'Start here'!$B$4,'Self-employment'!$A:$A,"<="&B$6) | C11: =SUMIFS('Self-employment'!$D:$D,'Self-employment'!$C:$C,"Construction industry payments to subcontractors",'Self-employment'!$A:$A,">="&'Start here'!$B$4,'Self-employment'!$A:$A,"<="&C$6) | D11: =SUMIFS('Self-employment'!$D:$D,'Self-employment'!$C:$C,"Construction industry payments to subcontractors",'Self-employment'!$A:$A,">="&'Start here'!$B$4,'Self-employment'!$A:$A,"<="&D$6) | E11: =SUMIFS('Self-employment'!$D:$D,'Self-employment'!$C:$C,"Construction industry payments to subcontractors",'Self-employment'!$A:$A,">="&'Start here'!$B$4,'Self-employment'!$A:$A,"<="&E$6)
A12: Wages, salaries and other staff costs | B12: =SUMIFS('Self-employment'!$D:$D,'Self-employment'!$C:$C,"Wages, salaries and other staff costs",'Self-employment'!$A:$A,">="&'Start here'!$B$4,'Self-employment'!$A:$A,"<="&B$6) | C12: =SUMIFS('Self-employment'!$D:$D,'Self-employment'!$C:$C,"Wages, salaries and other staff costs",'Self-employment'!$A:$A,">="&'Start here'!$B$4,'Self-employment'!$A:$A,"<="&C$6) | D12: =SUMIFS('Self-employment'!$D:$D,'Self-employment'!$C:$C,"Wages, salaries and other staff costs",'Self-employment'!$A:$A,">="&'Start here'!$B$4,'Self-employment'!$A:$A,"<="&D$6) | E12: =SUMIFS('Self-employment'!$D:$D,'Self-employment'!$C:$C,"Wages, salaries and other staff costs",'Self-employment'!$A:$A,">="&'Start here'!$B$4,'Self-employment'!$A:$A,"<="&E$6)
A13: Car, van and travel expenses | B13: =SUMIFS('Self-employment'!$D:$D,'Self-employment'!$C:$C,"Car, van and travel expenses",'Self-employment'!$A:$A,">="&'Start here'!$B$4,'Self-employment'!$A:$A,"<="&B$6) | C13: =SUMIFS('Self-employment'!$D:$D,'Self-employment'!$C:$C,"Car, van and travel expenses",'Self-employment'!$A:$A,">="&'Start here'!$B$4,'Self-employment'!$A:$A,"<="&C$6) | D13: =SUMIFS('Self-employment'!$D:$D,'Self-employment'!$C:$C,"Car, van and travel expenses",'Self-employment'!$A:$A,">="&'Start here'!$B$4,'Self-employment'!$A:$A,"<="&D$6) | E13: =SUMIFS('Self-employment'!$D:$D,'Self-employment'!$C:$C,"Car, van and travel expenses",'Self-employment'!$A:$A,">="&'Start here'!$B$4,'Self-employment'!$A:$A,"<="&E$6)
A14: Rent, rates, power and insurance costs | B14: =SUMIFS('Self-employment'!$D:$D,'Self-employment'!$C:$C,"Rent, rates, power and insurance costs",'Self-employment'!$A:$A,">="&'Start here'!$B$4,'Self-employment'!$A:$A,"<="&B$6) | C14: =SUMIFS('Self-employment'!$D:$D,'Self-employment'!$C:$C,"Rent, rates, power and insurance costs",'Self-employment'!$A:$A,">="&'Start here'!$B$4,'Self-employment'!$A:$A,"<="&C$6) | D14: =SUMIFS('Self-employment'!$D:$D,'Self-employment'!$C:$C,"Rent, rates, power and insurance costs",'Self-employment'!$A:$A,">="&'Start here'!$B$4,'Self-employment'!$A:$A,"<="&D$6) | E14: =SUMIFS('Self-employment'!$D:$D,'Self-employment'!$C:$C,"Rent, rates, power and insurance costs",'Self-employment'!$A:$A,">="&'Start here'!$B$4,'Self-employment'!$A:$A,"<="&E$6)
A15: Repairs and maintenance of property and equipment | B15: =SUMIFS('Self-employment'!$D:$D,'Self-employment'!$C:$C,"Repairs and maintenance of property and equipment",'Self-employment'!$A:$A,">="&'Start here'!$B$4,'Self-employment'!$A:$A,"<="&B$6) | C15: =SUMIFS('Self-employment'!$D:$D,'Self-employment'!$C:$C,"Repairs and maintenance of property and equipment",'Self-employment'!$A:$A,">="&'Start here'!$B$4,'Self-employment'!$A:$A,"<="&C$6) | D15: =SUMIFS('Self-employment'!$D:$D,'Self-employment'!$C:$C,"Repairs and maintenance of property and equipment",'Self-employment'!$A:$A,">="&'Start here'!$B$4,'Self-employment'!$A:$A,"<="&D$6) | E15: =SUMIFS('Self-employment'!$D:$D,'Self-employment'!$C:$C,"Repairs and maintenance of property and equipment",'Self-employment'!$A:$A,">="&'Start here'!$B$4,'Self-employment'!$A:$A,"<="&E$6)
A16: Phone, stationery and other office costs | B16: =SUMIFS('Self-employment'!$D:$D,'Self-employment'!$C:$C,"Phone, stationery and other office costs",'Self-employment'!$A:$A,">="&'Start here'!$B$4,'Self-employment'!$A:$A,"<="&B$6) | C16: =SUMIFS('Self-employment'!$D:$D,'Self-employment'!$C:$C,"Phone, stationery and other office costs",'Self-employment'!$A:$A,">="&'Start here'!$B$4,'Self-employment'!$A:$A,"<="&C$6) | D16: =SUMIFS('Self-employment'!$D:$D,'Self-employment'!$C:$C,"Phone, stationery and other office costs",'Self-employment'!$A:$A,">="&'Start here'!$B$4,'Self-employment'!$A:$A,"<="&D$6) | E16: =SUMIFS('Self-employment'!$D:$D,'Self-employment'!$C:$C,"Phone, stationery and other office costs",'Self-employment'!$A:$A,">="&'Start here'!$B$4,'Self-employment'!$A:$A,"<="&E$6)
A17: Advertising costs | B17: =SUMIFS('Self-employment'!$D:$D,'Self-employment'!$C:$C,"Advertising costs",'Self-employment'!$A:$A,">="&'Start here'!$B$4,'Self-employment'!$A:$A,"<="&B$6) | C17: =SUMIFS('Self-employment'!$D:$D,'Self-employment'!$C:$C,"Advertising costs",'Self-employment'!$A:$A,">="&'Start here'!$B$4,'Self-employment'!$A:$A,"<="&C$6) | D17: =SUMIFS('Self-employment'!$D:$D,'Self-employment'!$C:$C,"Advertising costs",'Self-employment'!$A:$A,">="&'Start here'!$B$4,'Self-employment'!$A:$A,"<="&D$6) | E17: =SUMIFS('Self-employment'!$D:$D,'Self-employment'!$C:$C,"Advertising costs",'Self-employment'!$A:$A,">="&'Start here'!$B$4,'Self-employment'!$A:$A,"<="&E$6)
A18: Business entertainment costs (not allowable) | B18: =SUMIFS('Self-employment'!$D:$D,'Self-employment'!$C:$C,"Business entertainment costs",'Self-employment'!$A:$A,">="&'Start here'!$B$4,'Self-employment'!$A:$A,"<="&B$6) | C18: =SUMIFS('Self-employment'!$D:$D,'Self-employment'!$C:$C,"Business entertainment costs",'Self-employment'!$A:$A,">="&'Start here'!$B$4,'Self-employment'!$A:$A,"<="&C$6) | D18: =SUMIFS('Self-employment'!$D:$D,'Self-employment'!$C:$C,"Business entertainment costs",'Self-employment'!$A:$A,">="&'Start here'!$B$4,'Self-employment'!$A:$A,"<="&D$6) | E18: =SUMIFS('Self-employment'!$D:$D,'Self-employment'!$C:$C,"Business entertainment costs",'Self-employment'!$A:$A,">="&'Start here'!$B$4,'Self-employment'!$A:$A,"<="&E$6)
A19: Interest on bank and other loans | B19: =SUMIFS('Self-employment'!$D:$D,'Self-employment'!$C:$C,"Interest on bank and other loans",'Self-employment'!$A:$A,">="&'Start here'!$B$4,'Self-employment'!$A:$A,"<="&B$6) | C19: =SUMIFS('Self-employment'!$D:$D,'Self-employment'!$C:$C,"Interest on bank and other loans",'Self-employment'!$A:$A,">="&'Start here'!$B$4,'Self-employment'!$A:$A,"<="&C$6) | D19: =SUMIFS('Self-employment'!$D:$D,'Self-employment'!$C:$C,"Interest on bank and other loans",'Self-employment'!$A:$A,">="&'Start here'!$B$4,'Self-employment'!$A:$A,"<="&D$6) | E19: =SUMIFS('Self-employment'!$D:$D,'Self-employment'!$C:$C,"Interest on bank and other loans",'Self-employment'!$A:$A,">="&'Start here'!$B$4,'Self-employment'!$A:$A,"<="&E$6)
A20: Bank, credit card and other financial charges | B20: =SUMIFS('Self-employment'!$D:$D,'Self-employment'!$C:$C,"Bank, credit card and other financial charges",'Self-employment'!$A:$A,">="&'Start here'!$B$4,'Self-employment'!$A:$A,"<="&B$6) | C20: =SUMIFS('Self-employment'!$D:$D,'Self-employment'!$C:$C,"Bank, credit card and other financial charges",'Self-employment'!$A:$A,">="&'Start here'!$B$4,'Self-employment'!$A:$A,"<="&C$6) | D20: =SUMIFS('Self-employment'!$D:$D,'Self-employment'!$C:$C,"Bank, credit card and other financial charges",'Self-employment'!$A:$A,">="&'Start here'!$B$4,'Self-employment'!$A:$A,"<="&D$6) | E20: =SUMIFS('Self-employment'!$D:$D,'Self-employment'!$C:$C,"Bank, credit card and other financial charges",'Self-employment'!$A:$A,">="&'Start here'!$B$4,'Self-employment'!$A:$A,"<="&E$6)
A21: Irrecoverable debts written off | B21: =SUMIFS('Self-employment'!$D:$D,'Self-employment'!$C:$C,"Irrecoverable debts written off",'Self-employment'!$A:$A,">="&'Start here'!$B$4,'Self-employment'!$A:$A,"<="&B$6) | C21: =SUMIFS('Self-employment'!$D:$D,'Self-employment'!$C:$C,"Irrecoverable debts written off",'Self-employment'!$A:$A,">="&'Start here'!$B$4,'Self-employment'!$A:$A,"<="&C$6) | D21: =SUMIFS('Self-employment'!$D:$D,'Self-employment'!$C:$C,"Irrecoverable debts written off",'Self-employment'!$A:$A,">="&'Start here'!$B$4,'Self-employment'!$A:$A,"<="&D$6) | E21: =SUMIFS('Self-employment'!$D:$D,'Self-employment'!$C:$C,"Irrecoverable debts written off",'Self-employment'!$A:$A,">="&'Start here'!$B$4,'Self-employment'!$A:$A,"<="&E$6)
A22: Accountancy, legal and other professional fees | B22: =SUMIFS('Self-employment'!$D:$D,'Self-employment'!$C:$C,"Accountancy, legal and other professional fees",'Self-employment'!$A:$A,">="&'Start here'!$B$4,'Self-employment'!$A:$A,"<="&B$6) | C22: =SUMIFS('Self-employment'!$D:$D,'Self-employment'!$C:$C,"Accountancy, legal and other professional fees",'Self-employment'!$A:$A,">="&'Start here'!$B$4,'Self-employment'!$A:$A,"<="&C$6) | D22: =SUMIFS('Self-employment'!$D:$D,'Self-employment'!$C:$C,"Accountancy, legal and other professional fees",'Self-employment'!$A:$A,">="&'Start here'!$B$4,'Self-employment'!$A:$A,"<="&D$6) | E22: =SUMIFS('Self-employment'!$D:$D,'Self-employment'!$C:$C,"Accountancy, legal and other professional fees",'Self-employment'!$A:$A,">="&'Start here'!$B$4,'Self-employment'!$A:$A,"<="&E$6)
A23: Depreciation and loss or profit on sale of assets (not allowable) | B23: =SUMIFS('Self-employment'!$D:$D,'Self-employment'!$C:$C,"Depreciation and loss or profit on sale of assets",'Self-employment'!$A:$A,">="&'Start here'!$B$4,'Self-employment'!$A:$A,"<="&B$6) | C23: =SUMIFS('Self-employment'!$D:$D,'Self-employment'!$C:$C,"Depreciation and loss or profit on sale of assets",'Self-employment'!$A:$A,">="&'Start here'!$B$4,'Self-employment'!$A:$A,"<="&C$6) | D23: =SUMIFS('Self-employment'!$D:$D,'Self-employment'!$C:$C,"Depreciation and loss or profit on sale of assets",'Self-employment'!$A:$A,">="&'Start here'!$B$4,'Self-employment'!$A:$A,"<="&D$6) | E23: =SUMIFS('Self-employment'!$D:$D,'Self-employment'!$C:$C,"Depreciation and loss or profit on sale of assets",'Self-employment'!$A:$A,">="&'Start here'!$B$4,'Self-employment'!$A:$A,"<="&E$6)
A24: Other business expenses | B24: =SUMIFS('Self-employment'!$D:$D,'Self-employment'!$C:$C,"Other business expenses",'Self-employment'!$A:$A,">="&'Start here'!$B$4,'Self-employment'!$A:$A,"<="&B$6) | C24: =SUMIFS('Self-employment'!$D:$D,'Self-employment'!$C:$C,"Other business expenses",'Self-employment'!$A:$A,">="&'Start here'!$B$4,'Self-employment'!$A:$A,"<="&C$6) | D24: =SUMIFS('Self-employment'!$D:$D,'Self-employment'!$C:$C,"Other business expenses",'Self-employment'!$A:$A,">="&'Start here'!$B$4,'Self-employment'!$A:$A,"<="&D$6) | E24: =SUMIFS('Self-employment'!$D:$D,'Self-employment'!$C:$C,"Other business expenses",'Self-employment'!$A:$A,">="&'Start here'!$B$4,'Self-employment'!$A:$A,"<="&E$6)
A25: Business expenses (not split - turnover under £90,000) | B25: =SUMIFS('Self-employment'!$D:$D,'Self-employment'!$C:$C,"Business expenses (not split - turnover under £90,000)",'Self-employment'!$A:$A,">="&'Start here'!$B$4,'Self-employment'!$A:$A,"<="&B$6) | C25: =SUMIFS('Self-employment'!$D:$D,'Self-employment'!$C:$C,"Business expenses (not split - turnover under £90,000)",'Self-employment'!$A:$A,">="&'Start here'!$B$4,'Self-employment'!$A:$A,"<="&C$6) | D25: =SUMIFS('Self-employment'!$D:$D,'Self-employment'!$C:$C,"Business expenses (not split - turnover under £90,000)",'Self-employment'!$A:$A,">="&'Start here'!$B$4,'Self-employment'!$A:$A,"<="&D$6) | E25: =SUMIFS('Self-employment'!$D:$D,'Self-employment'!$C:$C,"Business expenses (not split - turnover under £90,000)",'Self-employment'!$A:$A,">="&'Start here'!$B$4,'Self-employment'!$A:$A,"<="&E$6)
A26: Total income | B26: =B8+B9 | C26: =C8+C9 | D26: =D8+D9 | E26: =E8+E9
A27: Total allowable expenses | B27: =B10+B11+B12+B13+B14+B15+B16+B17+B19+B20+B21+B22+B24+B25 | C27: =C10+C11+C12+C13+C14+C15+C16+C17+C19+C20+C21+C22+C24+C25 | D27: =D10+D11+D12+D13+D14+D15+D16+D17+D19+D20+D21+D22+D24+D25 | E27: =E10+E11+E12+E13+E14+E15+E16+E17+E19+E20+E21+E22+E24+E25
A28: Profit so far (income minus allowable expenses) | B28: =B26-B27 | C28: =C26-C27 | D28: =D26-D27 | E28: =E26-E27
A31: UK property
B32: Update 1 | C32: Update 2 | D32: Update 3 | E32: Update 4
A33: Covers 6 April to | B33: =DATE(YEAR('Start here'!$B$4),7,5) | C33: =DATE(YEAR('Start here'!$B$4),10,5) | D33: =DATE(YEAR('Start here'!$B$4)+1,1,5) | E33: =DATE(YEAR('Start here'!$B$4)+1,4,5)
A34: Send by | B34: =DATE(YEAR('Start here'!$B$4),8,7) | C34: =DATE(YEAR('Start here'!$B$4),11,7) | D34: =DATE(YEAR('Start here'!$B$4)+1,2,7) | E34: =DATE(YEAR('Start here'!$B$4)+1,5,7)
A35: Rent received | B35: =SUMIFS('Property'!$E:$E,'Property'!$D:$D,"Rent received",'Property'!$A:$A,">="&'Start here'!$B$4,'Property'!$A:$A,"<="&B$33) | C35: =SUMIFS('Property'!$E:$E,'Property'!$D:$D,"Rent received",'Property'!$A:$A,">="&'Start here'!$B$4,'Property'!$A:$A,"<="&C$33) | D35: =SUMIFS('Property'!$E:$E,'Property'!$D:$D,"Rent received",'Property'!$A:$A,">="&'Start here'!$B$4,'Property'!$A:$A,"<="&D$33) | E35: =SUMIFS('Property'!$E:$E,'Property'!$D:$D,"Rent received",'Property'!$A:$A,">="&'Start here'!$B$4,'Property'!$A:$A,"<="&E$33)
A36: Premiums for the grant of a lease | B36: =SUMIFS('Property'!$E:$E,'Property'!$D:$D,"Premiums for the grant of a lease",'Property'!$A:$A,">="&'Start here'!$B$4,'Property'!$A:$A,"<="&B$33) | C36: =SUMIFS('Property'!$E:$E,'Property'!$D:$D,"Premiums for the grant of a lease",'Property'!$A:$A,">="&'Start here'!$B$4,'Property'!$A:$A,"<="&C$33) | D36: =SUMIFS('Property'!$E:$E,'Property'!$D:$D,"Premiums for the grant of a lease",'Property'!$A:$A,">="&'Start here'!$B$4,'Property'!$A:$A,"<="&D$33) | E36: =SUMIFS('Property'!$E:$E,'Property'!$D:$D,"Premiums for the grant of a lease",'Property'!$A:$A,">="&'Start here'!$B$4,'Property'!$A:$A,"<="&E$33)
A37: Reverse premiums and inducements | B37: =SUMIFS('Property'!$E:$E,'Property'!$D:$D,"Reverse premiums and inducements",'Property'!$A:$A,">="&'Start here'!$B$4,'Property'!$A:$A,"<="&B$33) | C37: =SUMIFS('Property'!$E:$E,'Property'!$D:$D,"Reverse premiums and inducements",'Property'!$A:$A,">="&'Start here'!$B$4,'Property'!$A:$A,"<="&C$33) | D37: =SUMIFS('Property'!$E:$E,'Property'!$D:$D,"Reverse premiums and inducements",'Property'!$A:$A,">="&'Start here'!$B$4,'Property'!$A:$A,"<="&D$33) | E37: =SUMIFS('Property'!$E:$E,'Property'!$D:$D,"Reverse premiums and inducements",'Property'!$A:$A,">="&'Start here'!$B$4,'Property'!$A:$A,"<="&E$33)
A38: Other property income | B38: =SUMIFS('Property'!$E:$E,'Property'!$D:$D,"Other property income",'Property'!$A:$A,">="&'Start here'!$B$4,'Property'!$A:$A,"<="&B$33) | C38: =SUMIFS('Property'!$E:$E,'Property'!$D:$D,"Other property income",'Property'!$A:$A,">="&'Start here'!$B$4,'Property'!$A:$A,"<="&C$33) | D38: =SUMIFS('Property'!$E:$E,'Property'!$D:$D,"Other property income",'Property'!$A:$A,">="&'Start here'!$B$4,'Property'!$A:$A,"<="&D$33) | E38: =SUMIFS('Property'!$E:$E,'Property'!$D:$D,"Other property income",'Property'!$A:$A,">="&'Start here'!$B$4,'Property'!$A:$A,"<="&E$33)
A39: Rent, rates, insurance and ground rents | B39: =SUMIFS('Property'!$E:$E,'Property'!$D:$D,"Rent, rates, insurance and ground rents",'Property'!$A:$A,">="&'Start here'!$B$4,'Property'!$A:$A,"<="&B$33) | C39: =SUMIFS('Property'!$E:$E,'Property'!$D:$D,"Rent, rates, insurance and ground rents",'Property'!$A:$A,">="&'Start here'!$B$4,'Property'!$A:$A,"<="&C$33) | D39: =SUMIFS('Property'!$E:$E,'Property'!$D:$D,"Rent, rates, insurance and ground rents",'Property'!$A:$A,">="&'Start here'!$B$4,'Property'!$A:$A,"<="&D$33) | E39: =SUMIFS('Property'!$E:$E,'Property'!$D:$D,"Rent, rates, insurance and ground rents",'Property'!$A:$A,">="&'Start here'!$B$4,'Property'!$A:$A,"<="&E$33)
A40: Property repairs and maintenance | B40: =SUMIFS('Property'!$E:$E,'Property'!$D:$D,"Property repairs and maintenance",'Property'!$A:$A,">="&'Start here'!$B$4,'Property'!$A:$A,"<="&B$33) | C40: =SUMIFS('Property'!$E:$E,'Property'!$D:$D,"Property repairs and maintenance",'Property'!$A:$A,">="&'Start here'!$B$4,'Property'!$A:$A,"<="&C$33) | D40: =SUMIFS('Property'!$E:$E,'Property'!$D:$D,"Property repairs and maintenance",'Property'!$A:$A,">="&'Start here'!$B$4,'Property'!$A:$A,"<="&D$33) | E40: =SUMIFS('Property'!$E:$E,'Property'!$D:$D,"Property repairs and maintenance",'Property'!$A:$A,">="&'Start here'!$B$4,'Property'!$A:$A,"<="&E$33)
A41: Loan interest and other financial costs (not residential) | B41: =SUMIFS('Property'!$E:$E,'Property'!$D:$D,"Loan interest and other financial costs (not residential)",'Property'!$A:$A,">="&'Start here'!$B$4,'Property'!$A:$A,"<="&B$33) | C41: =SUMIFS('Property'!$E:$E,'Property'!$D:$D,"Loan interest and other financial costs (not residential)",'Property'!$A:$A,">="&'Start here'!$B$4,'Property'!$A:$A,"<="&C$33) | D41: =SUMIFS('Property'!$E:$E,'Property'!$D:$D,"Loan interest and other financial costs (not residential)",'Property'!$A:$A,">="&'Start here'!$B$4,'Property'!$A:$A,"<="&D$33) | E41: =SUMIFS('Property'!$E:$E,'Property'!$D:$D,"Loan interest and other financial costs (not residential)",'Property'!$A:$A,">="&'Start here'!$B$4,'Property'!$A:$A,"<="&E$33)
A42: Legal, management and other professional fees | B42: =SUMIFS('Property'!$E:$E,'Property'!$D:$D,"Legal, management and other professional fees",'Property'!$A:$A,">="&'Start here'!$B$4,'Property'!$A:$A,"<="&B$33) | C42: =SUMIFS('Property'!$E:$E,'Property'!$D:$D,"Legal, management and other professional fees",'Property'!$A:$A,">="&'Start here'!$B$4,'Property'!$A:$A,"<="&C$33) | D42: =SUMIFS('Property'!$E:$E,'Property'!$D:$D,"Legal, management and other professional fees",'Property'!$A:$A,">="&'Start here'!$B$4,'Property'!$A:$A,"<="&D$33) | E42: =SUMIFS('Property'!$E:$E,'Property'!$D:$D,"Legal, management and other professional fees",'Property'!$A:$A,">="&'Start here'!$B$4,'Property'!$A:$A,"<="&E$33)
A43: Costs of services provided, including wages | B43: =SUMIFS('Property'!$E:$E,'Property'!$D:$D,"Costs of services provided, including wages",'Property'!$A:$A,">="&'Start here'!$B$4,'Property'!$A:$A,"<="&B$33) | C43: =SUMIFS('Property'!$E:$E,'Property'!$D:$D,"Costs of services provided, including wages",'Property'!$A:$A,">="&'Start here'!$B$4,'Property'!$A:$A,"<="&C$33) | D43: =SUMIFS('Property'!$E:$E,'Property'!$D:$D,"Costs of services provided, including wages",'Property'!$A:$A,">="&'Start here'!$B$4,'Property'!$A:$A,"<="&D$33) | E43: =SUMIFS('Property'!$E:$E,'Property'!$D:$D,"Costs of services provided, including wages",'Property'!$A:$A,">="&'Start here'!$B$4,'Property'!$A:$A,"<="&E$33)
...

Sheet Self-employment
A1: Date | B1: Description | C1: Category | D1: Amount | E1: Notes (receipt, invoice number)

Sheet Property
A1: Date | B1: Property | C1: Description | D1: Category | E1: Amount | F1: Notes (receipt, invoice number)

Sheet Lists
A1: Self-employment categories | B1: Property categories
A2: Turnover (sales, takings, fees) | B2: Rent received
A3: Other business income | B3: Premiums for the grant of a lease
A4: Cost of goods bought for resale or used | B4: Reverse premiums and inducements
A5: Construction industry payments to subcontractors | B5: Other property income
A6: Wages, salaries and other staff costs | B6: Rent, rates, insurance and ground rents
A7: Car, van and travel expenses | B7: Property repairs and maintenance
A8: Rent, rates, power and insurance costs | B8: Loan interest and other financial costs (not residential)
A9: Repairs and maintenance of property and equipment | B9: Legal, management and other professional fees
A10: Phone, stationery and other office costs | B10: Costs of services provided, including wages
A11: Advertising costs | B11: Property travel costs
A12: Business entertainment costs | B12: Other allowable property expenses
... A14: Bank, credit card and other financial charges | B14: Property expenses (not split - turnover under £90,000)
A15: Irrecoverable debts written off
A16: Accountancy, legal and other professional fees
A17: Depreciation and loss or profit on sale of assets
A18: Other business expenses
A19: Business expenses (not split - turnover under £90,000)
